BEGIN:VCALENDAR
VERSION:2.0
PRODID:-//Jewish Federation of Greater Dayton - ECPv6.15.20//NONSGML v1.0//EN
CALSCALE:GREGORIAN
METHOD:PUBLISH
X-ORIGINAL-URL:https://jewishdayton.org
X-WR-CALDESC:Events for Jewish Federation of Greater Dayton
REFRESH-INTERVAL;VALUE=DURATION:PT1H
X-Robots-Tag:noindex
X-PUBLISHED-TTL:PT1H
BEGIN:VTIMEZONE
TZID:America/New_York
BEGIN:DAYLIGHT
TZOFFSETFROM:-0500
TZOFFSETTO:-0400
TZNAME:EDT
DTSTART:20250309T070000
END:DAYLIGHT
BEGIN:STANDARD
TZOFFSETFROM:-0400
TZOFFSETTO:-0500
TZNAME:EST
DTSTART:20251102T060000
END:STANDARD
BEGIN:DAYLIGHT
TZOFFSETFROM:-0500
TZOFFSETTO:-0400
TZNAME:EDT
DTSTART:20260308T070000
END:DAYLIGHT
BEGIN:STANDARD
TZOFFSETFROM:-0400
TZOFFSETTO:-0500
TZNAME:EST
DTSTART:20261101T060000
END:STANDARD
BEGIN:DAYLIGHT
TZOFFSETFROM:-0500
TZOFFSETTO:-0400
TZNAME:EDT
DTSTART:20270314T070000
END:DAYLIGHT
BEGIN:STANDARD
TZOFFSETFROM:-0400
TZOFFSETTO:-0500
TZNAME:EST
DTSTART:20271107T060000
END:STANDARD
END:VTIMEZONE
BEGIN:VEVENT
DTSTART;TZID=America/New_York:20260609T193000
DTEND;TZID=America/New_York:20260609T213000
DTSTAMP:20260425T183357
CREATED:20250901T193735Z
LAST-MODIFIED:20260421T203009Z
UID:10014363-1781033400-1781040600@jewishdayton.org
SUMMARY:2026 Dayton International Film Festival ~ A Night of Short Films
DESCRIPTION:Tuesday\, June 9\, 2026\n7:30 p.m. \nThe NEON\n130 E. 5th St.\,\nDayton\, OH 45402 \nThe Shabbos Goy\n(USA\, 2019\, 7 minutes\, English) • Comedy/Film Short\n1 – a non-Jew who performs certain tasks which religious law prohibits a Jew from doing on the Sabbath.\n2 – a human loophole. God literally forbids she turn off an appliance gone rogue\, so an Orthodox Jew sets out on a quest to find someone who can. \nThe Cave Synagogue\n(Uganda\, 2025\, 8 minutes\, Luganda with English subtitles) • Documentary/Film Short\nThe Cave Synagogue follows Ugandan Abayudaya elder J.J. Keki as he and his sons journey to a hidden cave where Jews worshipped in secret under Idi Amin. After Judaism was outlawed in 1972\, a small group persisted. Today\, J.J. returns to sing\, pray\, and remember. \nNo Harm Done\n(France\, 2023\, 18 minutes\, French with English subtitles) • Fiction/Film Short\nMila\, who gave birth a week ago\, is preparing with her partner Joaquim for a fateful moment: today is their son’s circumcision. Although she had never questioned the practice\, the arrival of her baby and the imminence of the ceremony shatters her certainties. \nGary’s Letter\n(Germany\, 2025\, 30 minutes\, German with English subtitles) • Documentary/Film Short\nAt 88\, Gary Sternberg revisits his past by contacting the current residents of his childhood home in Germany. Born to a Jewish father in Nazi Germany\, he fled to Shanghai\, survived wartime hardship\, and later settled in the U.S. His return sparks a journey of remembrance and reconciliation. \nJewCE: The Jewish Comic Experience\n(USA\, 2024\, 22 minutes\, English) • Documentary/Film Short\nJewCE: The Jewish Comics Experience traces a century of Jewish influence on comics\, from 1930s superhero origins to today’s global graphic storytelling. Featuring original art\, rare issues\, and cultural artifacts\, the exhibit explores satire\, identity\, and fandom — culminating in an interactive space for reading\, creating\, and striking a superhero pose.
URL:https://jewishdayton.org/event/2026-dayton-international-film-festival-2/
LOCATION:The NEON\, 130 E 5th St\, Dayton\, OH\, 45402\, United States
CATEGORIES:Jewish Community Center of Greater Dayton,Film Festival 2026
GEO:39.7570576;-84.1880595
X-APPLE-STRUCTURED-LOCATION;VALUE=URI;X-ADDRESS=The NEON 130 E 5th St Dayton OH 45402 United States;X-APPLE-RADIUS=500;X-TITLE=130 E 5th St:geo:-84.1880595,39.7570576
END:VEVENT
BEGIN:VEVENT
DTSTART;TZID=America/New_York:20260611T193000
DTEND;TZID=America/New_York:20260611T213000
DTSTAMP:20260425T183357
CREATED:20250901T193735Z
LAST-MODIFIED:20260421T203009Z
UID:10014364-1781206200-1781213400@jewishdayton.org
SUMMARY:2026 Dayton International Film Festival ~ Pink Lady
DESCRIPTION:Thursday\, June 11\, 2026\n7:30 p.m. \nThe NEON\n130 E. 5th St.\,\nDayton\, OH 45402 \nPink Lady\n(Israel\, 2025\, 106 minutes\, Hebrew with English subtitles) • Drama\nIn an ultra-Orthodox Jewish community in Jerusalem\, Bati has a seemingly perfect life. She is happily married to Lazer and the young couple have three children. But their world starts to crumble when Lazer is blackmailed and Bati discovers his secret affair with his male study partner. Desperate to protect her family and keep the man she loves\, she supports Lazer as he attempts to “cure” his homosexuality\, while uncovering her true desires.
URL:https://jewishdayton.org/event/2026-dayton-international-film-festival-3/
LOCATION:The NEON\, 130 E 5th St\, Dayton\, OH\, 45402\, United States
CATEGORIES:Jewish Community Center of Greater Dayton,Film Festival 2026
GEO:39.7570576;-84.1880595
X-APPLE-STRUCTURED-LOCATION;VALUE=URI;X-ADDRESS=The NEON 130 E 5th St Dayton OH 45402 United States;X-APPLE-RADIUS=500;X-TITLE=130 E 5th St:geo:-84.1880595,39.7570576
END:VEVENT
BEGIN:VEVENT
DTSTART;TZID=America/New_York:20260614T193000
DTEND;TZID=America/New_York:20260614T213000
DTSTAMP:20260425T183357
CREATED:20250901T193735Z
LAST-MODIFIED:20260421T203009Z
UID:10014365-1781465400-1781472600@jewishdayton.org
SUMMARY:2026 Dayton International Film Festival ~ Once Upon My Mother
DESCRIPTION:Sunday\, June 14\, 2026\n7:30 p.m. \nThe NEON\n130 E. 5th St.\,\nDayton\, OH 45402 \nOnce Upon My Mother\n(France/Canada\, 2025\, 102 minutes\, French with English subtitles) • Drama\nIn 1963\, Esther gives birth to Roland\, the youngest of a large family. Roland is born with a clubfoot that prevents him from standing. Against everyone’s advice\, she promises her son that he will walk like everyone else and will have an extraordinary life. \nFrom that moment on\, Esther would stop at nothing to keep that promise. \nSpanning decades of trials and life’s miracles\, this film tells a true story\, funny and moving\, about an incredible destiny and the greatest love of all: a mother’s love for her child.
URL:https://jewishdayton.org/event/2026-dayton-international-film-festival-4/
LOCATION:The NEON\, 130 E 5th St\, Dayton\, OH\, 45402\, United States
CATEGORIES:Jewish Community Center of Greater Dayton,Film Festival 2026
GEO:39.7570576;-84.1880595
X-APPLE-STRUCTURED-LOCATION;VALUE=URI;X-ADDRESS=The NEON 130 E 5th St Dayton OH 45402 United States;X-APPLE-RADIUS=500;X-TITLE=130 E 5th St:geo:-84.1880595,39.7570576
END:VEVENT
BEGIN:VEVENT
DTSTART;TZID=America/New_York:20260616T193000
DTEND;TZID=America/New_York:20260616T213000
DTSTAMP:20260425T183357
CREATED:20250901T193736Z
LAST-MODIFIED:20260421T203009Z
UID:10014366-1781638200-1781645400@jewishdayton.org
SUMMARY:2026 Dayton International Film Festival ~ The Road Between Us
DESCRIPTION:Tuesday\, June 16\, 2026\n7:30 p.m. \nThe NEON\n130 E. 5th St.\,\nDayton\, OH 45402 \nThe Road Between Us\n(Canada\, 2025\, 95 minutes\, English) • Documentary\nThe Road Between Us: The Ultimate Rescue tells the inspiring real-life story of retired Israeli General Noam Tibon\, who on October 7\, 2023 received a desperate message from his son: terrorists had stormed his home\, and his family feared for their lives. With no time to spare\, Noam and his wife\, Gali\, set out on a 10-hour journey across a country under siege to rescue them.
URL:https://jewishdayton.org/event/2026-dayton-international-film-festival-5/
LOCATION:The NEON\, 130 E 5th St\, Dayton\, OH\, 45402\, United States
CATEGORIES:Jewish Community Center of Greater Dayton,Film Festival 2026
GEO:39.7570576;-84.1880595
X-APPLE-STRUCTURED-LOCATION;VALUE=URI;X-ADDRESS=The NEON 130 E 5th St Dayton OH 45402 United States;X-APPLE-RADIUS=500;X-TITLE=130 E 5th St:geo:-84.1880595,39.7570576
END:VEVENT
BEGIN:VEVENT
DTSTART;TZID=America/New_York:20260618T193000
DTEND;TZID=America/New_York:20260618T213000
DTSTAMP:20260425T183357
CREATED:20250901T193736Z
LAST-MODIFIED:20260421T203009Z
UID:10014367-1781811000-1781818200@jewishdayton.org
SUMMARY:2026 Dayton International Film Festival ~ Soda
DESCRIPTION:Thursday\, June 18\, 2026\n7:30 p.m. \nThe NEON\n130 E. 5th St.\,\nDayton\, OH 45402 \nSoda\n(Israel\, 2024\, 96 minutes\, Hebrew with English subtitles) • Feature/Drama\nEva (Rotem Sela)\, a beautiful seamstress\, arrives with her daughter in an Israeli working-class neighborhood in 1954. Shalom Gottlieb (Lior Raz)\, a former partisan leader and current factory foreman\, falls for Eva\, who offers him a chance at happiness and a life filled with beauty and laughter. But rumors of Eva’s past as a Kapo during the Holocaust shake the community. Shalom’s choice to be with Eva now means not only betraying his family\, but also his fellow partisans and his duty to uncover her secret.
URL:https://jewishdayton.org/event/2026-dayton-international-film-festival-6/
LOCATION:The NEON\, 130 E 5th St\, Dayton\, OH\, 45402\, United States
CATEGORIES:Jewish Community Center of Greater Dayton,Film Festival 2026
GEO:39.7570576;-84.1880595
X-APPLE-STRUCTURED-LOCATION;VALUE=URI;X-ADDRESS=The NEON 130 E 5th St Dayton OH 45402 United States;X-APPLE-RADIUS=500;X-TITLE=130 E 5th St:geo:-84.1880595,39.7570576
END:VEVENT
BEGIN:VEVENT
DTSTART;TZID=America/New_York:20260621T193000
DTEND;TZID=America/New_York:20260621T213000
DTSTAMP:20260425T183357
CREATED:20250901T193736Z
LAST-MODIFIED:20260421T203009Z
UID:10014369-1782070200-1782077400@jewishdayton.org
SUMMARY:2026 Dayton International Film Festival ~ The Ring
DESCRIPTION:Sunday\, June 21\, 2026\n7:30 p.m. \nThe NEON\n130 E. 5th St.\,\nDayton\, OH 45402 \nThe Ring\n(Israel/Hungary\, 2024\, 120 minutes\, Hebrew and Hungarian with English subtitles) • Drama/Comedy\nArnon Noble is a religious man with a strong bond to his mother\, a Holocaust survivor. He usually drives her to school lectures where she tells the students how she saved the lives of her baby boy and herself with the help of a thin gold ring. When the mother’s health deteriorates\, he and his estranged daughter travel to her old hometown\, Budapest\, to search for the mythological ring that saved her life in the past.
URL:https://jewishdayton.org/event/2026-dayton-international-film-festival-8/
LOCATION:The NEON\, 130 E 5th St\, Dayton\, OH\, 45402\, United States
CATEGORIES:Jewish Community Center of Greater Dayton,Film Festival 2026
GEO:39.7570576;-84.1880595
X-APPLE-STRUCTURED-LOCATION;VALUE=URI;X-ADDRESS=The NEON 130 E 5th St Dayton OH 45402 United States;X-APPLE-RADIUS=500;X-TITLE=130 E 5th St:geo:-84.1880595,39.7570576
END:VEVENT
BEGIN:VEVENT
DTSTART;TZID=America/New_York:20260623T193000
DTEND;TZID=America/New_York:20260623T213000
DTSTAMP:20260425T183357
CREATED:20250901T193736Z
LAST-MODIFIED:20260421T203009Z
UID:10014370-1782243000-1782250200@jewishdayton.org
SUMMARY:2026 Dayton International Film Festival ~ Art Spiegelman: Disaster is My Muse
DESCRIPTION:Tuesday\, June 23\, 2026\n7:30 p.m. \nThe NEON\n130 E. 5th St.\,\nDayton\, OH 45402 \nArt Spiegelman: Disaster is My Muse\n(USA\, 2024\, 98 minutes\, English) • Documentary\nThis insightful documentary delves into the life and work of Art Spiegelman\, the Queens-raised artist who revolutionized comics by exploring dark\, complex themes. Shaped by his Holocaust-survivor parents and inspired by MAD magazine’s irreverent satire\, Spiegelman’s most famous work\, MAUS\, is a poignant Holocaust narrative that redefined the medium. The film showcases his resistance to fascism and features rich illustrations from his comics\, highlighting his significant impact as an artist and cultural critic. Featuring Robert Crumb among many others.
URL:https://jewishdayton.org/event/2026-dayton-international-film-festival-9/
LOCATION:The NEON\, 130 E 5th St\, Dayton\, OH\, 45402\, United States
CATEGORIES:Jewish Community Center of Greater Dayton,Film Festival 2026
GEO:39.7570576;-84.1880595
X-APPLE-STRUCTURED-LOCATION;VALUE=URI;X-ADDRESS=The NEON 130 E 5th St Dayton OH 45402 United States;X-APPLE-RADIUS=500;X-TITLE=130 E 5th St:geo:-84.1880595,39.7570576
END:VEVENT
BEGIN:VEVENT
DTSTART;TZID=America/New_York:20260625T193000
DTEND;TZID=America/New_York:20260625T213000
DTSTAMP:20260425T183357
CREATED:20250901T193736Z
LAST-MODIFIED:20260421T203009Z
UID:10014371-1782415800-1782423000@jewishdayton.org
SUMMARY:2026 Dayton International Film Festival ~ Never Alone
DESCRIPTION:Thursday\, June 25\, 2026\n7:30 p.m. \nThe NEON\n130 E. 5th St.\,\nDayton\, OH 45402 \nNever Alone\n(Finland\, 2025\, 85 minutes\, Finnish with English subtitles) • Drama\nAs World War II looms over Central Europe\, Jewish refugees fleeing Hitler arrive in Finland seeking safety. But Finland’s alliance with Nazi Germany soon threatens that refuge. In Helsinki\, Jewish leader and philanthropist Abraham Stiller reassures them\, saying\, “This is Finland\, not Germany.” When refugees are sent to labor camps near German forces\, Stiller appeals to State Police Chief Arno Anthoni\, only to receive a warning that endangers the entire Finnish Jewish community. Never Alone tells a story of resilience and defiance as Stiller struggles to protect his community against overwhelming odds.
URL:https://jewishdayton.org/event/2026-dayton-international-film-festival-10/
LOCATION:The NEON\, 130 E 5th St\, Dayton\, OH\, 45402\, United States
CATEGORIES:Jewish Community Center of Greater Dayton,Film Festival 2026
GEO:39.7570576;-84.1880595
X-APPLE-STRUCTURED-LOCATION;VALUE=URI;X-ADDRESS=The NEON 130 E 5th St Dayton OH 45402 United States;X-APPLE-RADIUS=500;X-TITLE=130 E 5th St:geo:-84.1880595,39.7570576
END:VEVENT
BEGIN:VEVENT
DTSTART;TZID=America/New_York:20260628T193000
DTEND;TZID=America/New_York:20260628T213000
DTSTAMP:20260425T183357
CREATED:20250901T193736Z
LAST-MODIFIED:20260421T203009Z
UID:10014372-1782675000-1782682200@jewishdayton.org
SUMMARY:2026 Dayton International Film Festival ~ Matchmaking 2
DESCRIPTION:Sunday\, June 28\, 2026\n7:30 p.m. \nThe NEON\n130 E. 5th St.\,\nDayton\, OH 45402 \nMatchmaking 2\n(Israel\, 2025\, 110 minutes\, Hebrew with English subtitles) • Comedy\nWith more than 250\,000 cinema viewers since launch\, and counting\, Matchmaking 2 is matching up to its prequel\, Matchmaking\, which was the 2022 Israeli box office hit of the year. A sweet story and relatable\ncharacters\, with love\, laughter\, and high stakes in the Haredi dating world\, the movie features many of Israel’s most appealing young actors and actresses.
URL:https://jewishdayton.org/event/2026-dayton-international-film-festival-11/
LOCATION:The NEON\, 130 E 5th St\, Dayton\, OH\, 45402\, United States
CATEGORIES:Jewish Community Center of Greater Dayton,Film Festival 2026
GEO:39.7570576;-84.1880595
X-APPLE-STRUCTURED-LOCATION;VALUE=URI;X-ADDRESS=The NEON 130 E 5th St Dayton OH 45402 United States;X-APPLE-RADIUS=500;X-TITLE=130 E 5th St:geo:-84.1880595,39.7570576
END:VEVENT
BEGIN:VEVENT
DTSTART;TZID=America/New_York:20260630T193000
DTEND;TZID=America/New_York:20260630T213000
DTSTAMP:20260425T183357
CREATED:20250901T193736Z
LAST-MODIFIED:20260421T203009Z
UID:10014373-1782847800-1782855000@jewishdayton.org
SUMMARY:2026 Dayton International Film Festival Closing Night ~ Rosenthal
DESCRIPTION:Tuesday\, June 30\, 2026\n7:30 p.m. \nThe NEON\n130 E. 5th St.\,\nDayton\, OH 45402 \nRosenthal\n(Germany\, 2025\, 92 minutes\, German with English subtitles) • Drama\nGermany\, 1978. Hans Rosenthal is the country’s most popular TV presenter\, and\, what few people know: He is Jewish and a Holocaust survivor. The 75th edition of his beloved live game show is about to be broadcast\, but the celebratory mood is dampened by the air date\, November 9. Exactly 40 years after Kristallnacht\, the Nazi pogrom against the Jewish population\, Hans is expected to entertain and distract an audience of millions with his harmless TV show\, rather than attend the first official German memorial for the victims. Has the Jewish showman become himself a henchman of repression? Or will he find the strength to address his family trauma?
URL:https://jewishdayton.org/event/2026-dayton-international-film-festival-12/
LOCATION:The NEON\, 130 E 5th St\, Dayton\, OH\, 45402\, United States
CATEGORIES:Jewish Community Center of Greater Dayton,Film Festival 2026
GEO:39.7570576;-84.1880595
X-APPLE-STRUCTURED-LOCATION;VALUE=URI;X-ADDRESS=The NEON 130 E 5th St Dayton OH 45402 United States;X-APPLE-RADIUS=500;X-TITLE=130 E 5th St:geo:-84.1880595,39.7570576
END:VEVENT
END:VCALENDAR